Workbook

Sheet Calcul
A2: Désignation | C2: Quantité | D2: Prix unitaire | F2: Montant | G2: TVA
A5: Matériel général
A6: Armoire 211 cm - IP55 - Opaque | C6: 1 | D6: 750 | F6: =C6*D6 -> 750 | G6: HTVA
A7: Barrette de pontage | C7: 4 | D7: 40 | F7: =C7*D7 -> 160 | G7: HTVA
A8: Jeu de barres 100A | C8: 0 | D8: 40 | F8: =C8*D8 -> 0 | G8: HTVA
A9: Int # 40A - 4P - 300 mA | C9: 1 | D9: 65 | F9: =C9*D9 -> 65 | G9: HTVA
A10: Int # 40A - 4P - 30 mA | C10: 2 | D10: 75 | F10: =C10*D10 -> 150 | G10: HTVA
A11: Disjoncteur 2P - 2A | C11: 1 | D11: 30.67 | F11: =C11*D11 -> 30.67 | G11: HTVA
A12: Disjoncteur 2P - 4A | C12: 0 | D12: 29 | F12: =C12*D12 -> 0 | G12: HTVA
A13: Disjoncteur 2P - 6A | C13: 1 | D13: 15 | F13: =C13*D13 -> 15 | G13: HTVA
A14: Disjoncteur 2P - 10A | C14: 11 | D14: 12.81 | F14: =C14*D14 -> 140.91 | G14: HTVA
A15: Disjoncteur 2P - 16A | C15: 7 | D15: 12.14 | F15: =C15*D15 -> 84.98 | G15: HTVA
A16: Disjoncteur 2P - 20A | C16: 26 | D16: 12.14 | F16: =C16*D16 -> 315.64 | G16: HTVA
A17: Disjoncteur 2P - 25A | C17: 0 | D17: 15 | F17: =C17*D17 -> 0 | G17: HTVA
... A29: Alimentation du module | C29: 1 | D29: 85 | F29: =C29*D29 -> 85 | G29: HTVA
A30: Actionneur commutation ON/OFF (24x10A) | C30: 0 | D30: 356 | F30: =C30*D30 -> 0 | G30: HTVA | I30: Ventilé dans les points lumineux
A31: Entrée binaire pour boitier hermétique | C31: 0 | D31: 42.33 | F31: =C31*D31 -> 0 | G31: HTVA | I31: Ventilé dans les points de commande
A32: Goulotte 200mm / 60mm | C32: 2 | D32: 53.83 | F32: =C32*D32 -> 107.66 | G32: HTVA
A33: Forfait divers :
A34: 10² - 1,5² - embouts - bornes bus - étiquettes
A35: feuillard - vis - chevilles - … | C35: 1 | D35: 75 | F35: =C35*D35 -> 75 | G35: HTVA
A37: Main d'œuvre réalisation coffret
A38: Forfait journée | C38: 3 | D38: 400 | F38: =C38*D38 -> 1200 | G38: HTVA
C40: Sous-total 1 | F40: =SUM(F4:F39) -> 5056.57 | G40: HTVA

Sheet ELECTRICITE 1
F6: Mme Ubaghs Amelie
A8: Pompe à chaleur – Panneaux solaires – VMC
A9: Climatisation – Domotique
F10: 5500 THYNES
A11: Rue des Tilleuls,13 5537 ANHEE
A12: Tél : 082/22.32.82
A13: e-mail : direction@3-e.be
A20: NUMERO DE DEVIS | E20: N° TVA | F20: DATE DEVIS | G20: PAIEMENT
A21: xx/23 page 01 | E21: Néant | F21: 45090 | G21: COMPTANT
A22: A rappeler lors du paiement
A24: Désignation | C24: Quantité | D24: Prix unitaire | F24: Montant | G24: TVA
A26: Devis pour la rénovation de l'installation électrique
A28: Coffret de distribution respectant les normes en vigeur comprenant :
A29: - les protections des différents circuits
A30: - l'alimentation KNX
A31: - les borniers
A32: - les fils nécessaires au câblage interne
A33: - la main d'œuvre pour la mise en place et le câblage
A34: Coffret de distribution | C34: 1 | D34: 5200 | F34: =C34*D34 -> 5200 | G34: HTVA
A35: Coffret 25S60 avec sectionneur | C35: 1 | D35: 150 | F35: =C35*D35 -> 150 | G35: HTVA
A36: EXVB 4 x16 (alimentation générale) | C36: 15 | D36: 7.25 | F36: =C36*D36 -> 108.75 | G36: HTVA | I36: 960 | J36: =I36 -> 960
A38: Réalisation prise de terre
A39: Matériel nécessaire (câble, colliers, couteau, …) | C39: 1 | D39: 80 | F39: =C39*D39 -> 80 | G39: HTVA
A40: Main d'œuvre | C40: 2 | D40: 45 | F40: =C40*D40 -> 90 | G40: HTVA | I40: 120 | J40: =I40 -> 120
A42: Garage
A43: Point lumineux intérieur HYDRO ON/OFF | C43: 1 | D43: 165 | F43: =C43*D43 -> 165 | G43: HTVA | I43: 20 | J43: =C43*I43 -> 20
A44: Point de commande avec 2 BP hydro | C44: 2 | D44: 102 | F44: =C44*D44 -> 204 | G44: HTVA | I44: 50 | J44: =C44*I44 -> 100
A45: Circuit prises hydro | C45: 1 | D45: 308 | F45: =C45*D45 -> 308 | G45: HTVA | I45: 270 | J45: =C45*I45 -> 270 | N45: 30mA
A46: Alimentation boiler ECS | C46: 1 | D46: 70 | F46: =C46*D46 -> 70 | G46: HTVA | I46: 30 | J46: =C46*I46 -> 30 | N46: 30mA
A47: Alimentation PAC - Unité extérieure | C47: 1 | D47: 160 | F47: =C47*D47 -> 160 | G47: HTVA | I47: 30 | J47: =C47*I47 -> 30 | N47: 30mA
A48: Alimentation PAC - Unité intérieure | C48: 1 | D48: 160 | F48: =C48*D48 -> 160 | G48: HTVA | I48: 30 | J48: =C48*I48 -> 30 | N48: 30mA
A49: Prise simple - Machine à laver | C49: 1 | D49: 70 | F49: =C49*D49 -> 70 | G49: HTVA | I49: 30 | J49: =C49*I49 -> 30 | N49: 30mA
A50: Prise simple - Séchoir | C50: 1 | D50: 70 | F50: =C50*D50 -> 70 | G50: HTVA | I50: 30 | J50: =C50*I50 -> 30 | N50: 30mA
A51: Prise RJ45 (Commande ECS / PAC) | C51: 2 | D51: 125 | F51: =C51*D51 -> 250 | G51: HTVA | I51: 55 | J51: =C51*I51 -> 110
A52: Communication SG Ready avec boiler | C52: 1 | D52: 70 | F52: =C52*D52 -> 70 | G52: HTVA
A53: Communication SG Ready avec PAC | C53: 1 | D53: 70 | F53: =C53*D53 -> 70 | G53: HTVA
A54: Boitier raccordement RJ45 | C54: 1 | D54: 50 | F54: =C54*D54 -> 50 | G54: HTVA | I54: 30 | J54: =C54*I54 -> 30 | L54: Boitier LDLC
A56: Extérieur avant
A57: Point lumineux extérieur ON/OFF | C57: 3 | D57: 132 | F57: =C57*D57 -> 396 | G57: HTVA | I57: 30 | J57: =C57*I57 -> 90
C63: Sous-total 1 | F63: =SUM(F27:F62) -> 7671.75 | G63: HTVA | J63: =SUM(J27:J58) -> 1850 | K63: minutes
...

Sheet ELECTRICITE 2
F6: Mme Ubaghs Amelie
A8: Pompe à chaleur – Panneaux solaires – VMC
A9: Climatisation – Domotique
F10: 5500 THYNES
A11: Rue des Tilleuls,13 5537 ANHEE
A12: Tél : 082/22.32.82
A13: e-mail : direction@3-e.be
A20: NUMERO DE DEVIS | E20: N° TVA | F20: DATE DEVIS | G20: PAIEMENT
A21: xx/23 page 02 | E21: Néant | F21: 45090 | G21: COMPTANT
A22: A rappeler lors du paiement
A24: Désignation | C24: Quantité | D24: Prix unitaire | F24: Montant | G24: TVA
A26: Cuisine
A27: Point lumineux intérieur ON/OFF | C27: 3 | D27: 87 | F27: =C27*D27 -> 261 | G27: HTVA | I27: 30 | J27: =C27*I27 -> 90
A28: Circuit prises | C28: 2 | D28: 315 | F28: =C28*D28 -> 630 | G28: HTVA | I28: 270 | J28: =C28*I28 -> 540 | M28: 30mA
A29: Prise simple - Lave-vaisselle | C29: 1 | D29: 70 | F29: =C29*D29 -> 70 | G29: HTVA | I29: 30 | J29: =C29*I29 -> 30 | L29: 300mA
A30: Prise simple - Four | C30: 1 | D30: 70 | F30: =C30*D30 -> 70 | G30: HTVA | I30: 30 | J30: =C30*I30 -> 30 | L30: 300mA
A31: Prise simple - Four micro-ondes | C31: 1 | D31: 70 | F31: =C31*D31 -> 70 | G31: HTVA | I31: 30 | J31: =C31*I31 -> 30 | L31: 300mA
A32: Prise simple - Frigo | C32: 1 | D32: 70 | F32: =C32*D32 -> 70 | G32: HTVA | I32: 30 | J32: =C32*I32 -> 30 | L32: 300mA
A33: Prise simple - Hotte | C33: 1 | D33: 70 | F33: =C33*D33 -> 70 | G33: HTVA | I33: 30 | J33: =C33*I33 -> 30 | L33: 300mA
A34: Alimentation taque en câble 5G6 | C34: 1 | D34: 160 | F34: =C34*D34 -> 160 | G34: HTVA | I34: 55 | J34: =C34*I34 -> 55 | L34: 300mA
A35: Point de commande avec BP Interra | C35: 2 | D35: 160 | F35: =C35*D35 -> 320 | G35: HTVA | I35: 50 | J35: =C35*I35 -> 100
A37: Living
A38: Point lumineux intérieur ON/OFF | C38: 1 | D38: 87 | F38: =C38*D38 -> 87 | G38: HTVA | I38: 30 | J38: =C38*I38 -> 30
A39: Circuit prises | C39: 1 | D39: 315 | F39: =C39*D39 -> 315 | G39: HTVA | I39: 270 | J39: =C39*I39 -> 270 | M39: 30mA
A40: Point de commande avec BP Interra | C40: 1 | D40: 160 | F40: =C40*D40 -> 160 | G40: HTVA | I40: 50 | J40: =C40*I40 -> 50
A42: Salon
A43: Point lumineux intérieur dimmable | C43: 1 | D43: 200 | F43: =C43*D43 -> 200 | G43: HTVA | I43: 30 | J43: =C43*I43 -> 30
A44: Circuit prises | C44: 1 | D44: 315 | F44: =C44*D44 -> 315 | G44: HTVA | I44: 270 | J44: =C44*I44 -> 270 | M44: 30mA
A45: Prise TV/RJ45 | C45: 1 | D45: 125 | F45: =C45*D45 -> 125 | G45: HTVA | I45: 55 | J45: =C45*I45 -> 55
A46: Point de commande avec BP Interra | C46: 2 | D46: 160 | F46: =C46*D46 -> 320 | G46: HTVA | I46: 50 | J46: =C46*I46 -> 100
A48: Cage d'escalier
A49: Point lumineux intérieur ON/OFF | C49: 1 | D49: 87 | F49: =C49*D49 -> 87 | G49: HTVA | I49: 30 | J49: =C49*I49 -> 30
A50: Veilleuses | C50: 1 | D50: 114 | F50: =C50*D50 -> 114 | G50: HTVA | I50: 30 | J50: =C50*I50 -> 30
A52: Extérieur arrière
A53: Point lumineux extérieur ON/OFF | C53: 1 | D53: 132 | F53: =C53*D53 -> 132 | G53: HTVA | I53: 30 | J53: =C53*I53 -> 30
A54: Prise commandée | C54: 1 | D54: 155 | F54: =C54*D54 -> 155 | G54: HTVA | I54: 35 | J54: =C54*I54 -> 35
A56: Alimentation abri de jardin
A57: Alimentation taque en câble 5G6 | C57: 1 | D57: 160 | F57: =C57*D57 -> 160 | G57: HTVA | I57: 55 | J57: =C57*I57 -> 55 | L57: 300mA
A58: Alimentation RJ45 | C58: 1 | D58: 125 | F58: =C58*D58 -> 125 | G58: HTVA | I58: 55 | J58: =C58*I58 -> 55
A59: Alimentation BUS | C59: 1 | D59: 125 | F59: =C59*D59 -> 125 | G59: HTVA | I59: 55 | J59: =C59*I59 -> 55
...

Sheet ELECTRICITE 3
F6: Mme Ubaghs Amelie
A8: Pompe à chaleur – Panneaux solaires – VMC
A9: Climatisation – Domotique
F10: 5500 THYNES
A11: Rue des Tilleuls,13 5537 ANHEE
A12: Tél : 082/22.32.82
A13: e-mail : direction@3-e.be
A20: NUMERO DE DEVIS | E20: N° TVA | F20: DATE DEVIS | G20: PAIEMENT
A21: xx/23 page 03 | E21: Néant | F21: 45090 | G21: COMPTANT
A22: A rappeler lors du paiement
A24: Désignation | C24: Quantité | D24: Prix unitaire | F24: Montant | G24: TVA
A26: Etage : chambre 1
A27: Point lumineux intérieur ON/OFF | C27: 1 | D27: 87 | F27: =C27*D27 -> 87 | G27: HTVA | I27: 30 | J27: =C27*I27 -> 30
A28: Circuit prises | C28: 1 | D28: 315 | F28: =C28*D28 -> 315 | G28: HTVA | I28: 270 | J28: =C28*I28 -> 270 | M28: 30mA
A29: Prise TV/RJ45 | C29: 1 | D29: 125 | F29: =C29*D29 -> 125 | G29: HTVA | I29: 55 | J29: =C29*I29 -> 55
A30: Point de commande avec BP Interra | C30: 2 | D30: 160 | F30: =C30*D30 -> 320 | G30: HTVA | I30: 50 | J30: =C30*I30 -> 100
A32: Etage : chambre 2
A33: Point lumineux intérieur ON/OFF | C33: 1 | D33: 87 | F33: =C33*D33 -> 87 | G33: HTVA | I33: 30 | J33: =C33*I33 -> 30
A34: Circuit prises | C34: 1 | D34: 315 | F34: =C34*D34 -> 315 | G34: HTVA | I34: 270 | J34: =C34*I34 -> 270 | M34: 30mA
A35: Prise TV/RJ45 | C35: 1 | D35: 125 | F35: =C35*D35 -> 125 | G35: HTVA | I35: 55 | J35: =C35*I35 -> 55
A36: Point de commande avec BP Interra | C36: 1 | D36: 160 | F36: =C36*D36 -> 160 | G36: HTVA | I36: 50 | J36: =C36*I36 -> 50
A38: Etage : chambre 3
A39: Point lumineux intérieur ON/OFF | C39: 1 | D39: 87 | F39: =C39*D39 -> 87 | G39: HTVA | I39: 30 | J39: =C39*I39 -> 30
A40: Circuit prises | C40: 1 | D40: 315 | F40: =C40*D40 -> 315 | G40: HTVA | I40: 270 | J40: =C40*I40 -> 270 | M40: 30mA
A41: Prise TV/RJ45 | C41: 1 | D41: 125 | F41: =C41*D41 -> 125 | G41: HTVA | I41: 55 | J41: =C41*I41 -> 55
A42: Point de commande avec BP Interra | C42: 1 | D42: 160 | F42: =C42*D42 -> 160 | G42: HTVA | I42: 50 | J42: =C42*I42 -> 50
A44: Etage : Salle de bains
A45: Point lumineux intérieur ON/OFF | C45: 2 | D45: 87 | F45: =C45*D45 -> 174 | G45: HTVA | I45: 30 | J45: =C45*I45 -> 60
A46: Prises double | C46: 1 | D46: 80 | F46: =C46*D46 -> 80 | G46: HTVA | I46: 270 | J46: =C46*I46 -> 270 | M46: 30mA
A47: Alimentation sèche-serviettes | C47: 1 | D47: 70 | F47: =C47*D47 -> 70 | G47: HTVA | I47: 30 | J47: =C47*I47 -> 30 | M47: 30mA
A48: Point de commande avec BP Interra | C48: 1 | D48: 160 | F48: =C48*D48 -> 160 | G48: HTVA | I48: 50 | J48: =C48*I48 -> 50
A50: Hall de nuit
A51: Point lumineux intérieur ON/OFF | C51: 1 | D51: 87 | F51: =C51*D51 -> 87 | G51: HTVA | I51: 30 | J51: =C51*I51 -> 30
C63: Sous-total 3 | F63: =SUM(F25:F62) -> 2792 | G63: HTVA | J63: =SUM(J39:J62) -> 845 | K63: minutes
A66: Bases imposable | B66: Taux | C66: TVA
E67: A PAYER :
A71: N° TVA : BE0508.687.695 | C71: Agréation : 122610 / 122710 | F71: IBAN: BE13 3631 1583 3839 (ING)
C73: Conditions générales de vente au verso

Sheet ELECTRICITE 4
F6: Mme Ubaghs Amelie
A8: Pompe à chaleur – Panneaux solaires – VMC
A9: Climatisation – Domotique
F10: 5500 THYNES
A11: Rue des Tilleuls,13 5537 ANHEE
A12: Tél : 082/22.32.82
A13: e-mail : direction@3-e.be
A20: NUMERO DE DEVIS | E20: N° TVA | F20: DATE DEVIS | G20: PAIEMENT
A21: xx/23 page 04 | E21: Néant | F21: 45090 | G21: COMPTANT
A22: A rappeler lors du paiement
A24: Désignation | C24: Quantité | D24: Prix unitaire | F24: Montant | G24: TVA
A26: DIVERS
A27: Réalisation des schémas | C27: 1 | D27: 400 | F27: =C27*D27 -> 400 | G27: HTVA | I27: 480 | J27: =C27*I27 -> 480
A28: Réception organisme agréé | C28: 1 | D28: 200 | F28: =C28*D28 -> 200 | G28: HTVA
A29: Frais de déplacement | C29: 0 | D29: 50 | F29: =C29*D29 -> 0 | G29: HTVA
A30: Main d'œuvre (forfait à la journée) | C30: 0 | D30: 400 | F30: =C30*D30 -> 0 | G30: HTVA | I30: 480 | J30: =C30*I30 -> 0
A31: Programmation (3 modules/heure) | C31: 6 | D31: 80 | F31: =C31*D31 -> 480 | G31: HTVA | I31: 60 | J31: =C31*I31 -> 360
A32: Mise en service (forfait à la journée) | C32: 1 | D32: 400 | F32: =C32*D32 -> 400 | G32: HTVA | I32: 480 | J32: =C32*I32 -> 480
A35: RECAPITULATIF
A36: Sous-total 1 | F36: ='ELECTRICITE 1'!F63 -> 7671.75 | G36: HTVA | I36: ='ELECTRICITE 1'!J63 -> 1850 | J36: minutes
A37: Sous-total 2 | F37: ='ELECTRICITE 2'!F63 -> 4141 | G37: HTVA | I37: ='ELECTRICITE 2'!J63 -> 230 | J37: minutes
A38: Sous-total 3 | F38: ='ELECTRICITE 3'!F63 -> 2792 | G38: HTVA | I38: ='ELECTRICITE 3'!J63 -> 845 | J38: minutes
A42: Divers | F42: =SUM(F27:F32) -> 1480 | G42: HTVA | I42: =SUM(J27:J32) -> 1320 | J42: minutes
C44: Total : | F44: =SUM(F36:F43) -> 16084.75 | G44: HTVA | I44: =SUM(I36:I42) -> 4245 | J44: minutes
I46: 134.9 | J46: heures
I47: 16.9 | J47: jours
A66: Bases imposable | B66: Taux | C66: TVA
E67: A PAYER :
A71: N° TVA : BE0508.687.695 | C71: Agréation : 122610 / 122710 | F71: IBAN: BE13 3631 1433 3839 (ING)
C73: Conditions générales de vente au verso

Sheet ELECTRICITE 5
F6: Mme Ubaghs Amelie
A8: Pompe à chaleur – Panneaux solaires – VMC
A9: Climatisation – Domotique
F10: 5500 THYNES
A11: Rue des Tilleuls,13 5537 ANHEE
A12: Tél : 082/22.32.82
A13: e-mail : direction@3-e.be
A20: NUMERO DE DEVIS | E20: N° TVA | F20: DATE DEVIS | G20: PAIEMENT
A21: xx/23 page 05 | E21: Néant | F21: 45090 | G21: COMPTANT
A22: A rappeler lors du paiement
A24: Désignation | C24: Quantité | D24: Prix unitaire | F24: Montant | G24: TVA
A26: Options :
A28: Superivsion :
A29: Module de supervision | C29: 1 | D29: 1200 | F29: =C29*D29 -> 1200 | G29: HTVA | J29: EibPort
A66: Bases imposable | B66: Taux | C66: TVA
E67: A PAYER :
A71: N° TVA : BE0508.687.695 | C71: Agréation : 122610 / 122710 | F71: IBAN: BE13 3631 1433 3839 (ING)
C73: Conditions générales de vente au verso
