Workbook

Sheet ELECTRICITE 1
E6: Mr & Mme SAVAGE - VANDENBERGHE
A8: Pompe à chaleur – Panneaux solaires – VMC | F8: Rue Lambyhaie
A9: Climatisation – Domotique
F10: 1342 Rofessart
A11: Rue des Tilleuls,13 5537 ANHEE
A12: Tél : 082/22.32.82
A13: e-mail : direction@3-e.be
A16: Adresse du chantier : Rue du Luxembourg - 5570 Beauraing
A20: NUMERO DE DEVIS | E20: N° TVA | F20: DATE DEVIS | G20: PAIEMENT
A21: OP2207078 page 01 | E21: Néant | F21: 44747 | G21: COMPTANT
A22: A rappeler lors du paiement
A24: Désignation | C24: Quantité | D24: Prix unitaire | F24: Montant | G24: TVA
A26: Devis pour la rénovation de l'installation électrique
A28: Coffret de distribution respectant les normes en vigeur comprenant :
A29: - les protections des différents circuits
A30: - l'alimentation KNX
A31: - les borniers
A32: - les fils nécessaires au câblage interne
A33: - la main d'œuvre pour la mise en place et le câblage
A34: Coffret de distribution | C34: 1 | D34: 6850 | F34: =C34*D34 -> 6850 | G34: HTVA
A35: Coffret 25S60 avec sectionneur | C35: 1 | D35: 150 | F35: =C35*D35 -> 150 | G35: HTVA
A36: EXVB 4 x16 (alimentation générale) | C36: 6 | D36: 7.25 | F36: =C36*D36 -> 43.5 | G36: HTVA
A38: Réalisation prise de terre
A39: Matériel nécessaire (câble, colliers, couteau, …) | C39: 1 | D39: 80 | F39: =C39*D39 -> 80 | G39: HTVA
A40: Main d'œuvre | C40: 2 | D40: 45 | F40: =C40*D40 -> 90 | G40: HTVA
A42: La valeur de terre doit être mesurée et la mise à niveau dépendra de cette valeur. Si des tranchées sont à réaliser,
A43: elles le seront par le client.
A45: Hall entrée - Privé
A46: Point lumineux intérieur ON/OFF | C46: 1 | D46: 75 | F46: =C46*D46 -> 75 | G46: HTVA
A47: Point de commande avec détecteur plafond | C47: 1 | D47: 140 | F47: =C47*D47 -> 140 | G47: HTVA
A48: Point de commande avec BP Interra | C48: 1 | D48: 142 | F48: =C48*D48 -> 142 | G48: HTVA
A49: Prise simple | C49: 2 | D49: 65 | F49: =C49*D49 -> 130 | G49: HTVA
A50: Circuit 6 Veilleuses (rez + étage) | C50: 1 | D50: 445 | F50: =C50*D50 -> 445 | G50: HTVA
A52: WC
A53: Point lumineux intérieur ON/OFF | C53: 1 | D53: 75 | F53: =C53*D53 -> 75 | G53: HTVA
A54: Point de commande avec détecteur plafond | C54: 0 | D54: 140 | F54: =C54*D54 -> 0 | G54: HTVA
A55: Prise simple | C55: 1 | D55: 65 | F55: =C55*D55 -> 65 | G55: HTVA
A57: Vestiaire
A58: Point lumineux intérieur ON/OFF | C58: 1 | D58: 75 | F58: =C58*D58 -> 75 | G58: HTVA
A59: Point de commande avec détecteur plafond | C59: 1 | D59: 140 | F59: =C59*D59 -> 140 | G59: HTVA
...

Sheet ELECTRICITE 2
E6: Mr & Mme SAVAGE - VANDENBERGHE
A8: Pompe à chaleur – Panneaux solaires – VMC | F8: Rue Lambyhaie
A9: Climatisation – Domotique
F10: 1342 Rofessart
A11: Rue des Tilleuls,13 5537 ANHEE
A12: Tél : 082/22.32.82
A13: e-mail : direction@3-e.be
A20: NUMERO DE DEVIS | E20: N° TVA | F20: DATE DEVIS | G20: PAIEMENT
A21: OP2207078 page 02 | E21: Néant | F21: 44747 | G21: COMPTANT
A22: A rappeler lors du paiement
A24: Désignation | C24: Quantité | D24: Prix unitaire | F24: Montant | G24: TVA
A25: Cellier
A26: Point lumineux intérieur ON/OFF | C26: 1 | D26: 75 | F26: =C26*D26 -> 75 | G26: HTVA
A27: Point de commande avec BP Interra | C27: 2 | D27: 142 | F27: =C27*D27 -> 284 | G27: HTVA
A28: Prise simple - Machine à laver | C28: 0 | D28: 65 | F28: =C28*D28 -> 0 | G28: HTVA
A29: Prise simple - Séchoir | C29: 0 | D29: 65 | F29: =C29*D29 -> 0 | G29: HTVA
A30: Prise simple - Congélateur | C30: 1 | D30: 65 | F30: =C30*D30 -> 65 | G30: HTVA
A31: Prise double | C31: 2 | D31: 75 | F31: =C31*D31 -> 150 | G31: HTVA
A33: Salle de jeux
A34: Point lumineux intérieur ON/OFF | C34: 1 | D34: 75 | F34: =C34*D34 -> 75 | G34: HTVA
A35: Point de commande avec BP Interra | C35: 1 | D35: 142 | F35: =C35*D35 -> 142 | G35: HTVA
A36: Circuit prises | C36: 1 | D36: 315 | F36: =C36*D36 -> 315 | G36: HTVA
A38: Salon
A39: Point lumineux principal intérieur dimmable | C39: 1 | D39: 186 | F39: =C39*D39 -> 186 | G39: HTVA
A40: Point lumineux intérieur ON/OFF | C40: 1 | D40: 75 | F40: =C40*D40 -> 75 | G40: HTVA
A41: Point de commande avec BP Interra | C41: 2 | D41: 142 | F41: =C41*D41 -> 284 | G41: HTVA
A42: Circuit prises | C42: 1 | D42: 315 | F42: =C42*D42 -> 315 | G42: HTVA
A43: Supplément prise commandée ON/OFF | C43: 1 | D43: 95 | F43: =C43*D43 -> 95 | G43: HTVA
A44: Supplément prise commandée dimmable | C44: 1 | D44: 170 | F44: =C44*D44 -> 170 | G44: HTVA
A45: Prise TV/RJ45 | C45: 2 | D45: 125 | F45: =C45*D45 -> 250 | G45: HTVA
A47: Séjour
A48: Point lumineux principal intérieur dimmable | C48: 1 | D48: 186 | F48: =C48*D48 -> 186 | G48: HTVA
A49: Point de commande avec BP Interra | C49: 1 | D49: 142 | F49: =C49*D49 -> 142 | G49: HTVA
A50: Circuit prises | C50: 1 | D50: 315 | F50: =C50*D50 -> 315 | G50: HTVA
A52: Cuisine
A53: Point lumineux intérieur ON/OFF | C53: 3 | D53: 75 | F53: =C53*D53 -> 225 | G53: HTVA
A54: Point de commande avec BP Interra | C54: 1 | D54: 142 | F54: =C54*D54 -> 142 | G54: HTVA
A55: Circuit prises | C55: 1 | D55: 315 | F55: =C55*D55 -> 315 | G55: HTVA
A56: Prise simple - Lave-vaisselle | C56: 1 | D56: 65 | F56: =C56*D56 -> 65 | G56: HTVA
A57: Prise simple - Four | C57: 1 | D57: 65 | F57: =C57*D57 -> 65 | G57: HTVA
...

Sheet ELECTRICITE 3
E6: Mr & Mme SAVAGE - VANDENBERGHE
A8: Pompe à chaleur – Panneaux solaires – VMC | F8: Rue Lambyhaie
A9: Climatisation – Domotique
F10: 1342 Rofessart
A11: Rue des Tilleuls,13 5537 ANHEE
A12: Tél : 082/22.32.82
A13: e-mail : direction@3-e.be
A20: NUMERO DE DEVIS | E20: N° TVA | F20: DATE DEVIS | G20: PAIEMENT
A21: OP2207078 page 03 | E21: Néant | F21: 44747 | G21: COMPTANT
A22: A rappeler lors du paiement
A24: Désignation | C24: Quantité | D24: Prix unitaire | F24: Montant | G24: TVA
A26: Garage
A27: Point lumineux intérieur HYDRO ON/OFF | C27: 1 | D27: 107 | F27: =C27*D27 -> 107 | G27: HTVA
A28: Point de commande avec détecteur plafond | C28: 1 | D28: 140 | F28: =C28*D28 -> 140 | G28: HTVA
A29: Point de commande avec 2 BP hydro | C29: 2 | D29: 95 | F29: =C29*D29 -> 190 | G29: HTVA
A30: Circuit prises hydro | C30: 1 | D30: 315 | F30: =C30*D30 -> 315 | G30: HTVA
A31: Alimentation hydrophore | C31: 1 | D31: 65 | F31: =C31*D31 -> 65 | G31: HTVA
A32: Alimentation boiler thermodynamique | C32: 1 | D32: 65 | F32: =C32*D32 -> 65 | G32: HTVA
A33: Alimentation PAC - Unité extérieure | C33: 1 | D33: 160 | F33: =C33*D33 -> 160 | G33: HTVA
A34: Alimentation PAC - Unité intérieure | C34: 1 | D34: 160 | F34: =C34*D34 -> 160 | G34: HTVA
A35: Commande PAC (+ module dans PAC) | C35: 1 | D35: 114 | F35: =C35*D35 -> 114 | G35: HTVA
A36: Alimentation Borne électrique 5G6 en attente | C36: 1 | D36: 175 | F36: =C36*D36 -> 175 | G36: HTVA
A37: Armoire informatique 19 pouces - 9 modules | C37: 1 | D37: 765 | F37: =C37*D37 -> 765 | G37: HTVA
A38: comprenant :
A39: - 2 patch
A40: - 2 plateaux
A41: - 1 alimentation multiprises
A42: - 1 goulotte pour câbles
A43: Main d'œuvre mise en place armoire informatique | C43: 1 | D43: 360 | F43: =C43*D43 -> 360 | G43: HTVA
A45: Extérieur avant
A46: Point lumineux extérieur ON/OFF | C46: 2 | D46: 114 | F46: =C46*D46 -> 228 | G46: HTVA
A47: Prise simple hydro | C47: 2 | D47: 65 | F47: =C47*D47 -> 130 | G47: HTVA
A48: Supplément prise commandée ON/OFF | C48: 2 | D48: 95 | F48: =C48*D48 -> 190 | G48: HTVA
A50: Extérieur avant - Partie professionnelle
A51: Point lumineux extérieur ON/OFF | C51: 2 | D51: 114 | F51: =C51*D51 -> 228 | G51: HTVA
A52: Point de commande avec détecteur mural | C52: 1 | D52: 237 | F52: =C52*D52 -> 237 | G52: HTVA
A54: Extérieur arrière
A55: Point lumineux extérieur ON/OFF | C55: 2 | D55: 114 | F55: =C55*D55 -> 228 | G55: HTVA
A56: Prise simple hydro | C56: 2 | D56: 65 | F56: =C56*D56 -> 130 | G56: HTVA
A57: Supplément prise commandée ON/OFF | C57: 2 | D57: 95 | F57: =C57*D57 -> 190 | G57: HTVA
...

Sheet ELECTRICITE 4
E6: Mr & Mme SAVAGE - VANDENBERGHE
A8: Pompe à chaleur – Panneaux solaires – VMC | F8: Rue Lambyhaie
A9: Climatisation – Domotique
F10: 1342 Rofessart
A11: Rue des Tilleuls,13 5537 ANHEE
A12: Tél : 082/22.32.82
A13: e-mail : direction@3-e.be
A20: NUMERO DE DEVIS | E20: N° TVA | F20: DATE DEVIS | G20: PAIEMENT
A21: OP2207078 page 04 | E21: Néant | F21: 44747 | G21: COMPTANT
A22: A rappeler lors du paiement
A24: Désignation | C24: Quantité | D24: Prix unitaire | F24: Montant | G24: TVA
A26: Hall entrée - Professionnel
A27: Point lumineux intérieur ON/OFF | C27: 1 | D27: 75 | F27: =C27*D27 -> 75 | G27: HTVA
A28: Point de commande avec détecteur plafond | C28: 1 | D28: 140 | F28: =C28*D28 -> 140 | G28: HTVA
A29: Point de commande avec BP Interra | C29: 1 | D29: 142 | F29: =C29*D29 -> 142 | G29: HTVA
A30: Prise simple | C30: 2 | D30: 65 | F30: =C30*D30 -> 130 | G30: HTVA
A32: WC
A33: Point lumineux intérieur ON/OFF | C33: 1 | D33: 75 | F33: =C33*D33 -> 75 | G33: HTVA
A34: Point de commande avec détecteur plafond | C34: 1 | D34: 140 | F34: =C34*D34 -> 140 | G34: HTVA
A35: Prise simple | C35: 1 | D35: 65 | F35: =C35*D35 -> 65 | G35: HTVA
A37: Bureau 1
A38: Point lumineux extérieur ON/OFF | C38: 2 | D38: 114 | F38: =C38*D38 -> 228 | G38: HTVA
A39: Point de commande avec BP Interra | C39: 1 | D39: 142 | F39: =C39*D39 -> 142 | G39: HTVA
A40: Circuit prises | C40: 1 | D40: 315 | F40: =C40*D40 -> 315 | G40: HTVA
A41: Supplément prise commandée ON/OFF | C41: 1 | D41: 95 | F41: =C41*D41 -> 95 | G41: HTVA
A42: Prise TV/RJ45 | C42: 2 | D42: 125 | F42: =C42*D42 -> 250 | G42: HTVA
A44: Bureau 2
A45: Point lumineux extérieur ON/OFF | C45: 2 | D45: 114 | F45: =C45*D45 -> 228 | G45: HTVA
A46: Point de commande avec BP Interra | C46: 2 | D46: 142 | F46: =C46*D46 -> 284 | G46: HTVA
A47: Circuit prises | C47: 1 | D47: 315 | F47: =C47*D47 -> 315 | G47: HTVA
A48: Supplément prise commandée ON/OFF | C48: 1 | D48: 95 | F48: =C48*D48 -> 95 | G48: HTVA
A49: Prise TV/RJ45 | C49: 2 | D49: 125 | F49: =C49*D49 -> 250 | G49: HTVA
A51: Extérieur arrière - Professionnel
A52: Point lumineux extérieur ON/OFF | C52: 1 | D52: 114 | F52: =C52*D52 -> 114 | G52: HTVA
C63: Sous-total 4 | F63: =SUM(F26:F62) -> 3083 | G63: HTVA
A66: Bases imposable | B66: Taux | C66: TVA
E67: A PAYER :
A71: N° TVA : BE0508.687.695 | C71: Agréation : 122610 / 122710 | F71: IBAN: BE13 3631 1583 3839 (ING)
C73: Conditions générales de vente au verso

Sheet ELECTRICITE 5
E6: Mr & Mme SAVAGE - VANDENBERGHE
A8: Pompe à chaleur – Panneaux solaires – VMC | F8: Rue Lambyhaie
A9: Climatisation – Domotique
F10: 1342 Rofessart
A11: Rue des Tilleuls,13 5537 ANHEE
A12: Tél : 082/22.32.82
A13: e-mail : direction@3-e.be
A20: NUMERO DE DEVIS | E20: N° TVA | F20: DATE DEVIS | G20: PAIEMENT
A21: OP2207078 page 05 | E21: Néant | F21: 44747 | G21: COMPTANT
A22: A rappeler lors du paiement
A24: Désignation | C24: Quantité | D24: Prix unitaire | F24: Montant | G24: TVA
A26: Hall de circulation
A27: Point lumineux intérieur ON/OFF | C27: 1 | D27: 75 | F27: =C27*D27 -> 75 | G27: HTVA
A28: Point de commande avec détecteur plafond | C28: 1 | D28: 140 | F28: =C28*D28 -> 140 | G28: HTVA
A29: Prise simple | C29: 2 | D29: 65 | F29: =C29*D29 -> 130 | G29: HTVA
A31: Hall de nuit
A32: Point lumineux intérieur ON/OFF | C32: 1 | D32: 75 | F32: =C32*D32 -> 75 | G32: HTVA
A33: Point de commande avec détecteur plafond | C33: 1 | D33: 140 | F33: =C33*D33 -> 140 | G33: HTVA
A34: Prise simple | C34: 2 | D34: 65 | F34: =C34*D34 -> 130 | G34: HTVA
A36: Bureau
A37: Point lumineux extérieur ON/OFF | C37: 2 | D37: 114 | F37: =C37*D37 -> 228 | G37: HTVA
A38: Point de commande avec BP Interra | C38: 1 | D38: 142 | F38: =C38*D38 -> 142 | G38: HTVA
A39: Circuit prises | C39: 1 | D39: 315 | F39: =C39*D39 -> 315 | G39: HTVA
A40: Supplément prise commandée ON/OFF | C40: 1 | D40: 95 | F40: =C40*D40 -> 95 | G40: HTVA
A41: Prise TV/RJ45 | C41: 2 | D41: 125 | F41: =C41*D41 -> 250 | G41: HTVA
A43: Salle de douches
A44: Point lumineux intérieur ON/OFF | C44: 2 | D44: 75 | F44: =C44*D44 -> 150 | G44: HTVA
A45: Point de commande avec BP Interra | C45: 1 | D45: 142 | F45: =C45*D45 -> 142 | G45: HTVA
A46: Prise double | C46: 2 | D46: 75 | F46: =C46*D46 -> 150 | G46: HTVA
A47: Alimentation sèche-serviettes | C47: 1 | D47: 65 | F47: =C47*D47 -> 65 | G47: HTVA
A49: Dressing
A50: Point lumineux intérieur ON/OFF | C50: 1 | D50: 75 | F50: =C50*D50 -> 75 | G50: HTVA
A51: Point de commande avec détecteur plafond | C51: 1 | D51: 140 | F51: =C51*D51 -> 140 | G51: HTVA
A52: Prise simple | C52: 2 | D52: 65 | F52: =C52*D52 -> 130 | G52: HTVA
A54: Chambre parentale
A55: Point lumineux extérieur ON/OFF | C55: 1 | D55: 114 | F55: =C55*D55 -> 114 | G55: HTVA
A56: Point de commande avec BP Interra | C56: 2 | D56: 142 | F56: =C56*D56 -> 284 | G56: HTVA
A57: Circuit prises | C57: 1 | D57: 315 | F57: =C57*D57 -> 315 | G57: HTVA
A58: Supplément prise commandée ON/OFF | C58: 2 | D58: 95 | F58: =C58*D58 -> 190 | G58: HTVA
A59: Prise TV/RJ45 | C59: 2 | D59: 125 | F59: =C59*D59 -> 250 | G59: HTVA
...

Sheet ELECTRICITE 6
E6: Mr & Mme SAVAGE - VANDENBERGHE
A8: Pompe à chaleur – Panneaux solaires – VMC | F8: Rue Lambyhaie
A9: Climatisation – Domotique
F10: 1342 Rofessart
A11: Rue des Tilleuls,13 5537 ANHEE
A12: Tél : 082/22.32.82
A13: e-mail : direction@3-e.be
A20: NUMERO DE DEVIS | E20: N° TVA | F20: DATE DEVIS | G20: PAIEMENT
A21: OP2207078 page 06 | E21: Néant | F21: 44747 | G21: COMPTANT
A22: A rappeler lors du paiement
A24: Désignation | C24: Quantité | D24: Prix unitaire | F24: Montant | G24: TVA
A26: Chambre 1
A27: Point lumineux extérieur ON/OFF | C27: 1 | D27: 114 | F27: =C27*D27 -> 114 | G27: HTVA
A28: Point de commande avec BP Interra | C28: 2 | D28: 142 | F28: =C28*D28 -> 284 | G28: HTVA
A29: Circuit prises | C29: 1 | D29: 315 | F29: =C29*D29 -> 315 | G29: HTVA
A30: Supplément prise commandée ON/OFF | C30: 2 | D30: 95 | F30: =C30*D30 -> 190 | G30: HTVA
A31: Prise TV/RJ45 | C31: 2 | D31: 125 | F31: =C31*D31 -> 250 | G31: HTVA
A33: Chambre 2
A34: Point lumineux extérieur ON/OFF | C34: 1 | D34: 114 | F34: =C34*D34 -> 114 | G34: HTVA
A35: Point de commande avec BP Interra | C35: 2 | D35: 142 | F35: =C35*D35 -> 284 | G35: HTVA
A36: Circuit prises | C36: 1 | D36: 315 | F36: =C36*D36 -> 315 | G36: HTVA
A37: Supplément prise commandée ON/OFF | C37: 2 | D37: 95 | F37: =C37*D37 -> 190 | G37: HTVA
A38: Prise TV/RJ45 | C38: 2 | D38: 125 | F38: =C38*D38 -> 250 | G38: HTVA
A40: Chambre 3
A41: Point lumineux extérieur ON/OFF | C41: 1 | D41: 114 | F41: =C41*D41 -> 114 | G41: HTVA
A42: Point de commande avec BP Interra | C42: 2 | D42: 142 | F42: =C42*D42 -> 284 | G42: HTVA
A43: Circuit prises | C43: 1 | D43: 315 | F43: =C43*D43 -> 315 | G43: HTVA
A44: Supplément prise commandée ON/OFF | C44: 2 | D44: 95 | F44: =C44*D44 -> 190 | G44: HTVA
A45: Prise TV/RJ45 | C45: 2 | D45: 125 | F45: =C45*D45 -> 250 | G45: HTVA
A47: Salle de bains
A48: Point lumineux intérieur ON/OFF | C48: 2 | D48: 75 | F48: =C48*D48 -> 150 | G48: HTVA
A49: Point de commande avec BP Interra | C49: 1 | D49: 142 | F49: =C49*D49 -> 142 | G49: HTVA
A50: Prise double | C50: 2 | D50: 75 | F50: =C50*D50 -> 150 | G50: HTVA
A51: Alimentation sèche-serviettes | C51: 1 | D51: 65 | F51: =C51*D51 -> 65 | G51: HTVA
A53: WC
A54: Point lumineux intérieur ON/OFF | C54: 1 | D54: 75 | F54: =C54*D54 -> 75 | G54: HTVA
A55: Point de commande avec détecteur plafond | C55: 1 | D55: 140 | F55: =C55*D55 -> 140 | G55: HTVA
A56: Prise simple | C56: 1 | D56: 65 | F56: =C56*D56 -> 65 | G56: HTVA
C63: Sous-total 4 | F63: =SUM(F26:F62) -> 4246 | G63: HTVA
A66: Bases imposable | B66: Taux | C66: TVA
...

Sheet ELECTRICITE 7
E6: Mr & Mme SAVAGE - VANDENBERGHE
A8: Pompe à chaleur – Panneaux solaires – VMC | F8: Rue Lambyhaie
A9: Climatisation – Domotique
F10: 1342 Rofessart
A11: Rue des Tilleuls,13 5537 ANHEE
A12: Tél : 082/22.32.82
A13: e-mail : direction@3-e.be
A20: NUMERO DE DEVIS | E20: N° TVA | F20: DATE DEVIS | G20: PAIEMENT
A21: OP2207078 page 07 | E21: Néant | F21: 44747 | G21: COMPTANT
A22: A rappeler lors du paiement
A24: Désignation | C24: Quantité | D24: Prix unitaire | F24: Montant | G24: TVA
A26: Buanderie
A27: Point lumineux intérieur ON/OFF | C27: 1 | D27: 75 | F27: =C27*D27 -> 75 | G27: HTVA
A28: Point de commande avec BP Interra | C28: 1 | D28: 142 | F28: =C28*D28 -> 142 | G28: HTVA
A29: Prise simple - Machine à laver | C29: 1 | D29: 65 | F29: =C29*D29 -> 65 | G29: HTVA
A30: Prise simple - Séchoir | C30: 1 | D30: 65 | F30: =C30*D30 -> 65 | G30: HTVA
A31: Prise double | C31: 2 | D31: 75 | F31: =C31*D31 -> 150 | G31: HTVA
A32: Prise TV/RJ45 | C32: 2 | D32: 125 | F32: =C32*D32 -> 250 | G32: HTVA
A34: Comble au-dessus du garage
A35: Point lumineux extérieur ON/OFF | C35: 1 | D35: 114 | F35: =C35*D35 -> 114 | G35: HTVA
A36: Circuit prises | C36: 2 | D36: 65 | F36: =C36*D36 -> 130 | G36: HTVA
A37: Alimentation VMC | C37: 1 | D37: 65 | F37: =C37*D37 -> 65 | G37: HTVA
A39: Grenier
A40: Point lumineux extérieur ON/OFF | C40: 1 | D40: 114 | F40: =C40*D40 -> 114 | G40: HTVA
A41: Prise simple | C41: 2 | D41: 65 | F41: =C41*D41 -> 130 | G41: HTVA
A43: Vidéophonie IP
A44: Vidéophonie comprenant : | C44: 2 | D44: 1800 | F44: =C44*D44 -> 3600 | G44: HTVA
A45: - Poste intérieur
A46: - Poste extérieur
A47: - Carillon IP
A48: - Boitier
A49: - Alimentation
A50: Main d'œuvre (forfait à la journée) | C50: 1 | D50: 400 | F50: =C50*D50 -> 400 | G50: HTVA
A52: Alimentation volets électriques
A53: Alimentation store | C53: 4 | D53: 210 | F53: =C53*D53 -> 840 | G53: HTVA
A55: Superivsion :
A56: Module de supervision & programmation | C56: 1 | D56: 1200 | F56: =C56*D56 -> 1200 | G56: HTVA
C63: Sous-total 5 | F63: =SUM(F26:F62) -> 7340 | G63: HTVA
A66: Bases imposable | B66: Taux | C66: TVA
E67: A PAYER :
...

Sheet ELECTRICITE 8
E6: Mr & Mme SAVAGE - VANDENBERGHE
A8: Pompe à chaleur – Panneaux solaires – VMC | F8: Rue Lambyhaie
A9: Climatisation – Domotique
F10: 1342 Rofessart
A11: Rue des Tilleuls,13 5537 ANHEE
A12: Tél : 082/22.32.82
A13: e-mail : direction@3-e.be
A20: NUMERO DE DEVIS | E20: N° TVA | F20: DATE DEVIS | G20: PAIEMENT
A21: OP2207078 page 08 | E21: Néant | F21: 44747 | G21: COMPTANT
A22: A rappeler lors du paiement
A24: Désignation | C24: Quantité | D24: Prix unitaire | F24: Montant | G24: TVA
A26: DIVERS
A27: Réalisation des schémas | C27: 2 | D27: 400 | F27: =C27*D27 -> 800 | G27: HTVA
A28: Réception organisme agréé | C28: 1 | D28: 200 | F28: =C28*D28 -> 200 | G28: HTVA
A29: Frais de déplacement | C29: 19 | D29: 50 | F29: =C29*D29 -> 950 | G29: HTVA
A30: Main d'œuvre (forfait à la journée) | C30: 0 | D30: 400 | F30: =C30*D30 -> 0 | G30: HTVA
A31: Programmation (3 modules/heure) | C31: 16 | D31: 80 | F31: =C31*D31 -> 1280 | G31: HTVA
A32: Mise en service (forfait à la journée) | C32: 1 | D32: 400 | F32: =C32*D32 -> 400 | G32: HTVA
A35: RECAPITULATIF
A36: Sous-total 1 | F36: ='ELECTRICITE 1'!F63 -> 8630.5 | G36: HTVA
A37: Sous-total 2 | F37: ='ELECTRICITE 2'!F63 -> 4306 | G37: HTVA
A38: Sous-total 3 | F38: ='ELECTRICITE 3'!F63 -> 4177 | G38: HTVA
A39: Sous-total 4 | F39: ='ELECTRICITE 4'!F63 -> 3083 | G39: HTVA
A40: Sous-total 5 | F40: ='ELECTRICITE 5'!F63 -> 3725 | G40: HTVA
A41: Sous-total 6 | F41: ='ELECTRICITE 6'!F63 -> 4246 | G41: HTVA
A42: Sous-total 7 | F42: ='ELECTRICITE 7'!F63 -> 7340 | G42: HTVA
A46: Divers | F46: =SUM(F27:F32) -> 3630 | G46: HTVA
C48: Total : | F48: =SUM(F36:F47) -> 39137.5 | G48: HTVA
A66: Bases imposable | B66: Taux | C66: TVA
E67: A PAYER :
A71: N° TVA : BE0508.687.695 | C71: Agréation : 122610 / 122710 | F71: IBAN: BE13 3631 1433 3839 (ING)
C73: Conditions générales de vente au verso

Sheet Feuil1
B2: Questions :
B4: Réalisation prise de terre : passage, boucle déjà posée, mesure,…
B5: Tension d'alimentation ?
B6: Placement du coffret ?
B7: Type d'interrupteur ?
B8: Faut-il du dimmage ?
B9: TV - Coax ou RJ45 ou les deux ?
B10: Téléphone / Internet --> Combi avec la télé ou réseau séparé ?
B11: Sonnerie / parlophonie / vidéophonie ?
B12: Supervision ?
B13: Commande à distance ?
B14: VMC ?
... B20: Production d'eau chaude ?
